BEGIN:VCALENDAR
VERSION:2.0
PRODID:icalendar-ruby
CALSCALE:GREGORIAN
BEGIN:VEVENT
DTSTAMP:20260419T134009Z
UID:7bf2b65a-f16b-4ff4-860f-7611b2baefd8
DTSTART;VALUE=DATE:20211211
DESCRIPTION:Property ID# 523181\, Locatoin: On site\, Time: 12:00PM
SUMMARY:Auction for 
END:VEVENT
END:VCALENDAR
