BEGIN:VCALENDAR
VERSION:2.0
PRODID:icalendar-ruby
CALSCALE:GREGORIAN
BEGIN:VEVENT
DTSTAMP:20260422T095404Z
UID:a7126c71-e02a-46d2-af2b-89f0bf9ae33b
DTSTART;VALUE=DATE:20240504
DESCRIPTION:Property ID# 573701\, Locatoin: on site\, Time: 1:00PM
SUMMARY:Auction for 
END:VEVENT
END:VCALENDAR
