BEGIN:VCALENDAR
VERSION:2.0
PRODID:icalendar-ruby
CALSCALE:GREGORIAN
BEGIN:VEVENT
DTSTAMP:20260421T150022Z
UID:00a8cef5-127e-4bd8-9095-5a0c9dab8ae0
DTSTART;TZID=Pacific/Auckland:20260426T124500
DTEND;TZID=Pacific/Auckland:20260426T133000
DESCRIPTION:Property ID# 604395
SUMMARY:Openhome for 34A Ballance Street
END:VEVENT
END:VCALENDAR
