BEGIN:VCALENDAR
VERSION:2.0
PRODID:icalendar-ruby
CALSCALE:GREGORIAN
BEGIN:VEVENT
DTSTAMP:20260421T145207Z
UID:1163728f-a516-4562-8d46-1adbc7e989a7
DTSTART;TZID=Pacific/Auckland:20260426T143000
DTEND;TZID=Pacific/Auckland:20260426T150000
DESCRIPTION:Property ID# 604946
SUMMARY:Openhome for 1/160 King Street
END:VEVENT
END:VCALENDAR
